BEGIN:VCALENDAR
VERSION:2.0
PRODID:-//Grundschule am Wasserquell - ECPv6.15.20//NONSGML v1.0//EN
CALSCALE:GREGORIAN
METHOD:PUBLISH
X-ORIGINAL-URL:https://www.grundschule-am-wasserquell.de
X-WR-CALDESC:Veranstaltungen für Grundschule am Wasserquell
REFRESH-INTERVAL;VALUE=DURATION:PT1H
X-Robots-Tag:noindex
X-PUBLISHED-TTL:PT1H
BEGIN:VTIMEZONE
TZID:Europe/Berlin
BEGIN:DAYLIGHT
TZOFFSETFROM:+0100
TZOFFSETTO:+0200
TZNAME:CEST
DTSTART:20250330T010000
END:DAYLIGHT
BEGIN:STANDARD
TZOFFSETFROM:+0200
TZOFFSETTO:+0100
TZNAME:CET
DTSTART:20251026T010000
END:STANDARD
BEGIN:DAYLIGHT
TZOFFSETFROM:+0100
TZOFFSETTO:+0200
TZNAME:CEST
DTSTART:20260329T010000
END:DAYLIGHT
BEGIN:STANDARD
TZOFFSETFROM:+0200
TZOFFSETTO:+0100
TZNAME:CET
DTSTART:20261025T010000
END:STANDARD
BEGIN:DAYLIGHT
TZOFFSETFROM:+0100
TZOFFSETTO:+0200
TZNAME:CEST
DTSTART:20270328T010000
END:DAYLIGHT
BEGIN:STANDARD
TZOFFSETFROM:+0200
TZOFFSETTO:+0100
TZNAME:CET
DTSTART:20271031T010000
END:STANDARD
END:VTIMEZONE
BEGIN:VEVENT
DTSTART;TZID=Europe/Berlin:20260422T080000
DTEND;TZID=Europe/Berlin:20260422T080000
DTSTAMP:20260422T120014
CREATED:20260307T124925Z
LAST-MODIFIED:20260313T115936Z
UID:10428-1776844800-1776844800@www.grundschule-am-wasserquell.de
SUMMARY:VERA Deutsch Lesen
DESCRIPTION:
URL:https://www.grundschule-am-wasserquell.de/veranstaltung/vera-deutsch-lesen/
CATEGORIES:VERA
END:VEVENT
BEGIN:VEVENT
DTSTART;TZID=Europe/Berlin:20260421T000000
DTEND;TZID=Europe/Berlin:20260421T000000
DTSTAMP:20260422T120014
CREATED:20230826T174035Z
LAST-MODIFIED:20260108T133422Z
UID:8605-1776729600-1776729600@www.grundschule-am-wasserquell.de
SUMMARY:Dunkelziffer 2.+3.Klassen Teil 2
DESCRIPTION:Unser Präventionsprogramm für die 2. Klassen heißt „Die Nein-Tonne“\nund für die 3. Klassen „Mein Körper gehört mir“.\nMehr Informationen erhalten Sie durch den Klick auf den Link.
URL:https://www.grundschule-am-wasserquell.de/veranstaltung/dunkelziffer-1-klassen-teil-2/
CATEGORIES:Kooperationen
END:VEVENT
BEGIN:VEVENT
DTSTART;TZID=Europe/Berlin:20260416T080000
DTEND;TZID=Europe/Berlin:20260416T123000
DTSTAMP:20260422T120014
CREATED:20260307T124841Z
LAST-MODIFIED:20260307T124841Z
UID:10426-1776326400-1776342600@www.grundschule-am-wasserquell.de
SUMMARY:Ausflug 4c
DESCRIPTION:Bungsberg
URL:https://www.grundschule-am-wasserquell.de/veranstaltung/ausflug-4c/
CATEGORIES:Kooperationen,sonstiges
END:VEVENT
BEGIN:VEVENT
DTSTART;TZID=Europe/Berlin:20260414T000000
DTEND;TZID=Europe/Berlin:20260414T000000
DTSTAMP:20260422T120014
CREATED:20230826T174001Z
LAST-MODIFIED:20260108T133405Z
UID:8603-1776124800-1776124800@www.grundschule-am-wasserquell.de
SUMMARY:Dunkelziffer 2.+3.Klassen Teil 1
DESCRIPTION:Unser Präventionsprogramm für die 2. Klassen heißt „Die Nein-Tonne“\nund für die 3. Klassen „Mein Körper gehört mir“.\nMehr Informationen erhalten Sie durch den Klick auf den Link.
URL:https://www.grundschule-am-wasserquell.de/veranstaltung/dunkelziffer-1-klassen-teil-1/
CATEGORIES:Kooperationen
END:VEVENT
BEGIN:VEVENT
DTSTART;TZID=Europe/Berlin:20260413T133000
DTEND;TZID=Europe/Berlin:20260413T153000
DTSTAMP:20260422T120014
CREATED:20190813T091745Z
LAST-MODIFIED:20250725T173511Z
UID:2209-1776087000-1776094200@www.grundschule-am-wasserquell.de
SUMMARY:Lehrerkonferenz
DESCRIPTION:
URL:https://www.grundschule-am-wasserquell.de/veranstaltung/lehrerkonferenz-9/
CATEGORIES:Konferenzen
END:VEVENT
BEGIN:VEVENT
DTSTART;VALUE=DATE:20260413
DTEND;VALUE=DATE:20260414
DTSTAMP:20260422T120014
CREATED:20191013T154016Z
LAST-MODIFIED:20250725T180124Z
UID:2576-1776038400-1776124799@www.grundschule-am-wasserquell.de
SUMMARY:erster Schultag nach den Osterferien
DESCRIPTION:
URL:https://www.grundschule-am-wasserquell.de/veranstaltung/erster-schultag-nach-den-osterferien-3/
CATEGORIES:sonstiges
END:VEVENT
BEGIN:VEVENT
DTSTART;VALUE=DATE:20260326
DTEND;VALUE=DATE:20260413
DTSTAMP:20260422T120014
CREATED:20191013T153837Z
LAST-MODIFIED:20250725T180600Z
UID:2572-1774483200-1776038399@www.grundschule-am-wasserquell.de
SUMMARY:OSTERFERIEN
DESCRIPTION:Mi. 26.03. – Fr. 10.04.2026 Osterferien
URL:https://www.grundschule-am-wasserquell.de/veranstaltung/2572/
CATEGORIES:Ferien
END:VEVENT
BEGIN:VEVENT
DTSTART;VALUE=DATE:20260325
DTEND;VALUE=DATE:20260326
DTSTAMP:20260422T120014
CREATED:20191013T153651Z
LAST-MODIFIED:20250725T175758Z
UID:2568-1774396800-1774396800@www.grundschule-am-wasserquell.de
SUMMARY:letzter Schultag vor den Osterferien
DESCRIPTION:Mi. 26.03. – Fr. 10.04.2026 Osterferien
URL:https://www.grundschule-am-wasserquell.de/veranstaltung/letzter-schultag-vor-den-osterferien/
CATEGORIES:sonstiges
END:VEVENT
BEGIN:VEVENT
DTSTART;TZID=Europe/Berlin:20260323T133000
DTEND;TZID=Europe/Berlin:20260323T153000
DTSTAMP:20260422T120014
CREATED:20190813T091604Z
LAST-MODIFIED:20250725T173449Z
UID:2203-1774272600-1774279800@www.grundschule-am-wasserquell.de
SUMMARY:Lehrerkonferenz
DESCRIPTION:
URL:https://www.grundschule-am-wasserquell.de/veranstaltung/lehrerkonferenz-8/
CATEGORIES:Konferenzen
END:VEVENT
BEGIN:VEVENT
DTSTART;TZID=Europe/Berlin:20260323T074500
DTEND;TZID=Europe/Berlin:20260325T123000
DTSTAMP:20260422T120014
CREATED:20260118T110809Z
LAST-MODIFIED:20260118T110809Z
UID:10286-1774251900-1774441800@www.grundschule-am-wasserquell.de
SUMMARY:Matheprojektwoche
DESCRIPTION:für die gesamte Schule
URL:https://www.grundschule-am-wasserquell.de/veranstaltung/matheprojektwoche-2/
END:VEVENT
BEGIN:VEVENT
DTSTART;TZID=Europe/Berlin:20260320T104500
DTEND;TZID=Europe/Berlin:20260320T123000
DTSTAMP:20260422T120014
CREATED:20260307T124639Z
LAST-MODIFIED:20260307T124639Z
UID:10424-1774003500-1774009800@www.grundschule-am-wasserquell.de
SUMMARY:Gefängnisball-Turnier 4. Klassen
DESCRIPTION:
URL:https://www.grundschule-am-wasserquell.de/veranstaltung/gefaengnisball-turnier-4-klassen/
CATEGORIES:sonstiges
END:VEVENT
BEGIN:VEVENT
DTSTART;TZID=Europe/Berlin:20260319T110000
DTEND;TZID=Europe/Berlin:20260319T120000
DTSTAMP:20260422T120014
CREATED:20260307T124548Z
LAST-MODIFIED:20260307T124548Z
UID:10422-1773918000-1773921600@www.grundschule-am-wasserquell.de
SUMMARY:Verkehrserziehung 4. Klassen
DESCRIPTION:mit Verkehrspolizei
URL:https://www.grundschule-am-wasserquell.de/veranstaltung/verkehrserziehung-4-klassen-2/
CATEGORIES:Fahrradprüfung,Kooperationen
END:VEVENT
BEGIN:VEVENT
DTSTART;TZID=Europe/Berlin:20260319T080000
DTEND;TZID=Europe/Berlin:20260319T123000
DTSTAMP:20260422T120014
CREATED:20260307T124458Z
LAST-MODIFIED:20260307T124458Z
UID:10420-1773907200-1773923400@www.grundschule-am-wasserquell.de
SUMMARY:Ausflug 2a + 4c
DESCRIPTION:Bungsberg
URL:https://www.grundschule-am-wasserquell.de/veranstaltung/ausflug-2a-4c/
CATEGORIES:Kooperationen
END:VEVENT
BEGIN:VEVENT
DTSTART;TZID=Europe/Berlin:20260318T095500
DTEND;TZID=Europe/Berlin:20260318T095500
DTSTAMP:20260422T120014
CREATED:20260307T124413Z
LAST-MODIFIED:20260307T124413Z
UID:10418-1773827700-1773827700@www.grundschule-am-wasserquell.de
SUMMARY:Gefängnisball-Turnier 3. Klassen
DESCRIPTION:
URL:https://www.grundschule-am-wasserquell.de/veranstaltung/gefaengnisball-turnier-3-klassen/
CATEGORIES:sonstiges
END:VEVENT
BEGIN:VEVENT
DTSTART;TZID=Europe/Berlin:20260316T140000
DTEND;TZID=Europe/Berlin:20260316T170000
DTSTAMP:20260422T120014
CREATED:20220708T114826Z
LAST-MODIFIED:20250725T173423Z
UID:7425-1773669600-1773680400@www.grundschule-am-wasserquell.de
SUMMARY:Fachkonferenzen
DESCRIPTION:
URL:https://www.grundschule-am-wasserquell.de/veranstaltung/fachkonferenz-sachunterricht-plus-2/
CATEGORIES:Konferenzen
END:VEVENT
BEGIN:VEVENT
DTSTART;TZID=Europe/Berlin:20260316T110000
DTEND;TZID=Europe/Berlin:20260316T110000
DTSTAMP:20260422T120014
CREATED:20260307T124322Z
LAST-MODIFIED:20260307T124322Z
UID:10416-1773658800-1773658800@www.grundschule-am-wasserquell.de
SUMMARY:Verkehrserziehung 4. Klassen
DESCRIPTION:mit Verkehrspolizei
URL:https://www.grundschule-am-wasserquell.de/veranstaltung/verkehrserziehung-4-klassen/
CATEGORIES:Fahrradprüfung,Kooperationen
END:VEVENT
BEGIN:VEVENT
DTSTART;TZID=Europe/Berlin:20260309T140000
DTEND;TZID=Europe/Berlin:20260309T170000
DTSTAMP:20260422T120014
CREATED:20190816T103712Z
LAST-MODIFIED:20250725T173402Z
UID:2163-1773064800-1773075600@www.grundschule-am-wasserquell.de
SUMMARY:Fachkonferenzen
DESCRIPTION:
URL:https://www.grundschule-am-wasserquell.de/veranstaltung/fachkonferenzen-2/
CATEGORIES:Konferenzen
END:VEVENT
BEGIN:VEVENT
DTSTART;VALUE=DATE:20260305
DTEND;VALUE=DATE:20260307
DTSTAMP:20260422T120014
CREATED:20240713T150246Z
LAST-MODIFIED:20250725T180914Z
UID:9515-1772668800-1772841599@www.grundschule-am-wasserquell.de
SUMMARY:bewegliche Ferientage
DESCRIPTION:Die Kinder haben schulfrei.
URL:https://www.grundschule-am-wasserquell.de/veranstaltung/beweglicher-ferientag/
CATEGORIES:unterrichtsfreie Tage
END:VEVENT
BEGIN:VEVENT
DTSTART;TZID=Europe/Berlin:20260302T000000
DTEND;TZID=Europe/Berlin:20260304T000000
DTSTAMP:20260422T120014
CREATED:20230612T140923Z
LAST-MODIFIED:20250725T174857Z
UID:8419-1772409600-1772582400@www.grundschule-am-wasserquell.de
SUMMARY:SET - Schulentwicklungstag
DESCRIPTION:Die Kinder haben schulfrei.
URL:https://www.grundschule-am-wasserquell.de/veranstaltung/set-schulentwicklungstag-2/
CATEGORIES:unterrichtsfreie Tage
END:VEVENT
BEGIN:VEVENT
DTSTART;TZID=Europe/Berlin:20260226T000000
DTEND;TZID=Europe/Berlin:20260226T000000
DTSTAMP:20260422T120014
CREATED:20251124T173512Z
LAST-MODIFIED:20260118T110614Z
UID:10215-1772064000-1772064000@www.grundschule-am-wasserquell.de
SUMMARY:"Cybermobbing und Co" Infos für 4. Klassen
DESCRIPTION:Infos für die 4. Klassen in Zusammenarbeit mit der Kriminalpolizei Lübeck
URL:https://www.grundschule-am-wasserquell.de/veranstaltung/cybermobbing-und-co-infos-fuer-4-klassen/
CATEGORIES:Kooperationen
END:VEVENT
BEGIN:VEVENT
DTSTART;TZID=Europe/Berlin:20260224T183000
DTEND;TZID=Europe/Berlin:20260224T183000
DTSTAMP:20260422T120014
CREATED:20251124T173847Z
LAST-MODIFIED:20251208T125855Z
UID:10224-1771957800-1771957800@www.grundschule-am-wasserquell.de
SUMMARY:Elternabend Medienerziehung 4. Klassen
DESCRIPTION:mit Referent des Offenen Kanal Kiel
URL:https://www.grundschule-am-wasserquell.de/veranstaltung/elternabend-medienerziehung-4-klassen/
CATEGORIES:Eltern,Kooperationen,Veranstaltungen
END:VEVENT
BEGIN:VEVENT
DTSTART;TZID=Europe/Berlin:20260223T140000
DTEND;TZID=Europe/Berlin:20260223T170000
DTSTAMP:20260422T120014
CREATED:20220820T170107Z
LAST-MODIFIED:20250725T173203Z
UID:7531-1771855200-1771866000@www.grundschule-am-wasserquell.de
SUMMARY:Fachkonferenzen
DESCRIPTION:
URL:https://www.grundschule-am-wasserquell.de/veranstaltung/fachkonferenz-englisch-2/
CATEGORIES:Konferenzen
END:VEVENT
BEGIN:VEVENT
DTSTART;TZID=Europe/Berlin:20260217T183000
DTEND;TZID=Europe/Berlin:20260217T183000
DTSTAMP:20260422T120014
CREATED:20251124T173803Z
LAST-MODIFIED:20251208T125842Z
UID:10222-1771353000-1771353000@www.grundschule-am-wasserquell.de
SUMMARY:Elternabend Medienerziehung 3. Klassen
DESCRIPTION:mit Referent des Offenen Kanal Kiel
URL:https://www.grundschule-am-wasserquell.de/veranstaltung/elternabend-medienerziehung-3-klassen/
CATEGORIES:Eltern,Kooperationen,Veranstaltungen
END:VEVENT
BEGIN:VEVENT
DTSTART;TZID=Europe/Berlin:20260217T180000
DTEND;TZID=Europe/Berlin:20260217T200000
DTSTAMP:20260422T120014
CREATED:20251202T185140Z
LAST-MODIFIED:20251202T185417Z
UID:10236-1771351200-1771358400@www.grundschule-am-wasserquell.de
SUMMARY:Infoabend Wagrienschule für die neuen Fünftklässler
DESCRIPTION:Unsere jetzigen Viertklässler\, die nach den Sommerferien die Wagrienschule besuchen werden\, sind mit ihren Eltern zusammen herzlich eingeladen zum Infoabend an der Wagrienschule.
URL:https://www.grundschule-am-wasserquell.de/veranstaltung/infoabend-wagrienschule-fuer-die-neuen-fuenftklaessler/
CATEGORIES:Eltern,Kooperationen
END:VEVENT
BEGIN:VEVENT
DTSTART;TZID=Europe/Berlin:20260216T074500
DTEND;TZID=Europe/Berlin:20260216T074500
DTSTAMP:20260422T120014
CREATED:20220708T185439Z
LAST-MODIFIED:20250725T175018Z
UID:7446-1771227900-1771227900@www.grundschule-am-wasserquell.de
SUMMARY:Fasching
DESCRIPTION:Alle dürfen verkleidet zur Schule kommen 🙂
URL:https://www.grundschule-am-wasserquell.de/veranstaltung/fasching-2/
CATEGORIES:sonstiges
END:VEVENT
BEGIN:VEVENT
DTSTART;TZID=Europe/Berlin:20260210T183000
DTEND;TZID=Europe/Berlin:20260210T183000
DTSTAMP:20260422T120014
CREATED:20251124T173716Z
LAST-MODIFIED:20251124T173716Z
UID:10220-1770748200-1770748200@www.grundschule-am-wasserquell.de
SUMMARY:Elternabend Medienerziehung 2. Klassen
DESCRIPTION:mit Referent des Offenen Kanal Kiel
URL:https://www.grundschule-am-wasserquell.de/veranstaltung/elternabend-medienerziehung-2-klassen/
CATEGORIES:Eltern,Kooperationen,Veranstaltungen
END:VEVENT
BEGIN:VEVENT
DTSTART;TZID=Europe/Berlin:20260210T000000
DTEND;TZID=Europe/Berlin:20260220T000000
DTSTAMP:20260422T120014
CREATED:20190819T164159Z
LAST-MODIFIED:20250725T173115Z
UID:2207-1770681600-1771545600@www.grundschule-am-wasserquell.de
SUMMARY:Elternsprechtage
DESCRIPTION:Elternsprechtage vom 10.02. – 20.02.2026 \nFür die Eltern der 1. Klassen ist ein Gespräch verpflichtend. \nFür Eltern der 4. Klasse ist ein Gespräch zur Schulübergangsempfehlung verpflichtend.
URL:https://www.grundschule-am-wasserquell.de/veranstaltung/elternsprechtage/
CATEGORIES:Eltern,Veranstaltungen
END:VEVENT
BEGIN:VEVENT
DTSTART;TZID=Europe/Berlin:20260209T133000
DTEND;TZID=Europe/Berlin:20260209T153000
DTSTAMP:20260422T120014
CREATED:20190804T094533Z
LAST-MODIFIED:20250725T173028Z
UID:2123-1770643800-1770651000@www.grundschule-am-wasserquell.de
SUMMARY:Lehrerkonferenz
DESCRIPTION:
URL:https://www.grundschule-am-wasserquell.de/veranstaltung/lehrerkonferenz-3/
CATEGORIES:Konferenzen
END:VEVENT
BEGIN:VEVENT
DTSTART;TZID=Europe/Berlin:20260206T080000
DTEND;TZID=Europe/Berlin:20260206T110000
DTSTAMP:20260422T120014
CREATED:20250725T173013Z
LAST-MODIFIED:20260118T110336Z
UID:10047-1770364800-1770375600@www.grundschule-am-wasserquell.de
SUMMARY:Theaterbesuch "Medienerziehung"
DESCRIPTION:im Stadttheater
URL:https://www.grundschule-am-wasserquell.de/veranstaltung/theaterbesuch-medienerziehung/
CATEGORIES:Kooperationen
END:VEVENT
BEGIN:VEVENT
DTSTART;TZID=Europe/Berlin:20260204T183000
DTEND;TZID=Europe/Berlin:20260204T183000
DTSTAMP:20260422T120014
CREATED:20251124T173552Z
LAST-MODIFIED:20251124T173631Z
UID:10217-1770229800-1770229800@www.grundschule-am-wasserquell.de
SUMMARY:Elternabend Medienerziehung 1. Klassen
DESCRIPTION:mit Referente des Offenen Kanal Kiel
URL:https://www.grundschule-am-wasserquell.de/veranstaltung/elternabend-medienerziehung-1-klassen/
CATEGORIES:Eltern,Kooperationen,Veranstaltungen
END:VEVENT
END:VCALENDAR